BEGIN:VCALENDAR
VERSION:2.0
PRODID:-//Mateřská škola Dášenka Lomnice nad Popelkou - ECPv6.15.12.2//NONSGML v1.0//EN
CALSCALE:GREGORIAN
METHOD:PUBLISH
X-WR-CALNAME:Mateřská škola Dášenka Lomnice nad Popelkou
X-ORIGINAL-URL:https://msdasenka.cz
X-WR-CALDESC:Akce na Mateřská škola Dášenka Lomnice nad Popelkou
REFRESH-INTERVAL;VALUE=DURATION:PT1H
X-Robots-Tag:noindex
X-PUBLISHED-TTL:PT1H
BEGIN:VTIMEZONE
TZID:Europe/Prague
BEGIN:DAYLIGHT
TZOFFSETFROM:+0100
TZOFFSETTO:+0200
TZNAME:CEST
DTSTART:20250330T010000
END:DAYLIGHT
BEGIN:STANDARD
TZOFFSETFROM:+0200
TZOFFSETTO:+0100
TZNAME:CET
DTSTART:20251026T010000
END:STANDARD
BEGIN:DAYLIGHT
TZOFFSETFROM:+0100
TZOFFSETTO:+0200
TZNAME:CEST
DTSTART:20260329T010000
END:DAYLIGHT
BEGIN:STANDARD
TZOFFSETFROM:+0200
TZOFFSETTO:+0100
TZNAME:CET
DTSTART:20261025T010000
END:STANDARD
BEGIN:DAYLIGHT
TZOFFSETFROM:+0100
TZOFFSETTO:+0200
TZNAME:CEST
DTSTART:20270328T010000
END:DAYLIGHT
BEGIN:STANDARD
TZOFFSETFROM:+0200
TZOFFSETTO:+0100
TZNAME:CET
DTSTART:20271031T010000
END:STANDARD
END:VTIMEZONE
BEGIN:VEVENT
DTSTART;VALUE=DATE:20260427
DTEND;VALUE=DATE:20260429
DTSTAMP:20260424T142811
CREATED:20260401T113050Z
LAST-MODIFIED:20260408T045316Z
UID:3380-1777287600-1777373999@msdasenka.cz
SUMMARY:POHÁDKA O KOUZELNÉM KOŠTĚTI
DESCRIPTION:Vybíráme 60\,- korun.
URL:https://msdasenka.cz/akce/pohadka-o-kouzelnem-kosteti/
END:VEVENT
BEGIN:VEVENT
DTSTART;VALUE=DATE:20260429
DTEND;VALUE=DATE:20260502
DTSTAMP:20260424T142811
CREATED:20260401T114222Z
LAST-MODIFIED:20260401T114432Z
UID:3382-1777460400-1777633199@msdasenka.cz
SUMMARY:ČARODĚJNICKÉ TRŽIŠTĚ
DESCRIPTION:Srdečně vás zveme na čarodějnické tržiště\, které se bude konat ve vestibulu naší školky ve dnech 29. 4.- 30. 4. Navštívit ho můžete v době poledního a odpoledního vyzvedávání dětí.
URL:https://msdasenka.cz/akce/carodejnicke-trziste/
END:VEVENT
BEGIN:VEVENT
DTSTART;VALUE=DATE:20260430
DTEND;VALUE=DATE:20260502
DTSTAMP:20260424T142811
CREATED:20260408T044958Z
LAST-MODIFIED:20260408T045004Z
UID:3392-1777546800-1777633199@msdasenka.cz
SUMMARY:ČARODĚJNICKÝ DEN
DESCRIPTION:Zábavné dopoledne nejen na školní zahradě\, na téma PUTOVÁNÍ S ČARODĚJNICÍ ANIČKOU. Připravte dětem čarodějnické masky.
URL:https://msdasenka.cz/akce/carodejnicky-den/
END:VEVENT
END:VCALENDAR